BEGIN:VCALENDAR
VERSION:2.0
PRODID:-//Electronic Music Producer, Musician, Performer and DJ Tony Nova Official Website - ECPv6.15.20//NONSGML v1.0//EN
CALSCALE:GREGORIAN
METHOD:PUBLISH
X-WR-CALNAME:Electronic Music Producer, Musician, Performer and DJ Tony Nova Official Website
X-ORIGINAL-URL:https://www.tonynova.net
X-WR-CALDESC:Events for Electronic Music Producer, Musician, Performer and DJ Tony Nova Official Website
REFRESH-INTERVAL;VALUE=DURATION:PT1H
X-Robots-Tag:noindex
X-PUBLISHED-TTL:PT1H
BEGIN:VTIMEZONE
TZID:UTC
BEGIN:STANDARD
TZOFFSETFROM:+0000
TZOFFSETTO:+0000
TZNAME:UTC
DTSTART:20220101T000000
END:STANDARD
END:VTIMEZONE
BEGIN:VEVENT
DTSTART;TZID=UTC:20231124T220000
DTEND;TZID=UTC:20231125T020000
DTSTAMP:20260420T041452
CREATED:20231121T012325Z
LAST-MODIFIED:20231121T012408Z
UID:7484-1700863200-1700877600@www.tonynova.net
SUMMARY:Tony Nova's Host Black Friday Boogie Party in Detroit - Free Show
DESCRIPTION:Tony Nova holds a free holiday party in Detroit at Northern Lights Lounge themed Black Friday Boogie.  \n \nGet Your Groove On and Save Big at Our Free Black Friday Boogie Party \nAs the holiday season approaches\, the hustle and bustle of shopping and gift-giving can be overwhelming. But before you dive headfirst into the frenzy of Black Friday deals\, take a moment to unwind and celebrate with us at Northern Lights Lounge. We’re hosting a Black Friday Boogie party that’s sure to get your groove on and save you some serious money. \nDance the Night Away with World-Class Music \nWhile other Black Friday events charge hefty cover charges\, our party is absolutely free to attend. That’s right\, you can dance the night away to the electrifying beats of world-renowned DJ Tony Nova without spending a dime. \nTony Nova is a Detroit-based DJ with over 20 years of experience spinning at some of the most prestigious clubs and festivals around the world. His eclectic mix of genres\, from funk and soul to house and techno\, is sure to get everyone moving. \nExperience the Most Diverse Bar in Detroit \nNorthern Lights Lounge is proud to be Detroit’s most diverse bar\, and our Black Friday Boogie party is no exception. We welcome people of all ages\, backgrounds\, and musical tastes to come together and celebrate the start of the holiday season. \nOur spacious lounge provides ample room to dance\, mingle\, and enjoy our delicious food and drinks. Whether you’re a seasoned dancer or just looking to let loose\, our friendly staff and welcoming atmosphere will make you feel right at home. \nSave Big and Dance the Night Away \nSo\, what are you waiting for? Grab your friends and join us for a night of fun\, music\, and savings at Northern Lights Lounge. Remember\, admission is free\, and the beats are guaranteed to be hot. \nDon’t miss out on this incredible opportunity to dance your way to savings and kick off the holiday season in style. See you on the dance floor!
URL:https://www.tonynova.net/event/tony-novas-host-black-friday-boogie-party-in-detroit/
LOCATION:Northern Lights Lounge\, 660 W Baltimore St\,\, Detroit\,\, MI\, 48202\, United States
CATEGORIES:Live
ATTACH;FMTTYPE=image/png:https://www.tonynova.net/wp-content/uploads/2023/11/Tony-nOVA-bLACK-fRIDAY.png
END:VEVENT
END:VCALENDAR